BEGIN:VCALENDAR
VERSION:2.0
PRODID:-//wp-events-plugin.com//7.2.3.1//EN
TZID:Europe/Berlin
X-WR-TIMEZONE:Europe/Berlin
BEGIN:VEVENT
UID:69@sun-wolbeck.de
DTSTART;TZID=Europe/Berlin:20231019T200000
DTEND;TZID=Europe/Berlin:20231019T230000
DTSTAMP:20230823T061741Z
URL:http://sun-wolbeck.de/events/e-sport-2-2023-10-19/
SUMMARY:E-Sport
DESCRIPTION:Link zur Steam Gruppe  von SuN-Wolbeck
CATEGORIES:E-Sport,Eltern
END:VEVENT
BEGIN:VTIMEZONE
TZID:Europe/Berlin
X-LIC-LOCATION:Europe/Berlin
BEGIN:DAYLIGHT
DTSTART:20230326T030000
TZOFFSETFROM:+0100
TZOFFSETTO:+0200
TZNAME:CEST
END:DAYLIGHT
END:VTIMEZONE
END:VCALENDAR